Package: SynMut Version: 1.27.0 Command: rm -rf SynMut.buildbin-libdir && mkdir SynMut.buildbin-libdir && /Users/biocbuild/BBS/utils/build-universal.sh SynMut_1.27.0.tar.gz /Library/Frameworks/R.framework/Resources/bin/R SynMut.buildbin-libdir StartedAt: 2025-11-12 21:12:19 -0500 (Wed, 12 Nov 2025) EndedAt: 2025-11-12 21:12:25 -0500 (Wed, 12 Nov 2025) EllapsedTime: 6.2 seconds RetCode: 0 Status: OK PackageFile: SynMut_1.27.0.tgz PackageFileSize: 318.2 KiB