Package: SynMut Version: 1.27.0 Maintainer: Haogao Gu MaintainerEmail: hggu at connect.hku.hk git_url: https://git.bioconductor.org/packages/SynMut git_branch: devel git_last_commit: 0bb1b93 git_last_commit_date: 2025-10-29 10:51:59 -0500 (Wed, 29 Oct 2025)