Package: SynExtend Version: 1.23.0 Command: /home/biocbuild/bbs-3.23-bioc/R/bin/R CMD build --keep-empty-dirs --no-resave-data SynExtend StartedAt: 2025-11-11 20:30:40 -0500 (Tue, 11 Nov 2025) EndedAt: 2025-11-11 20:31:46 -0500 (Tue, 11 Nov 2025) EllapsedTime: 66.1 seconds RetCode: 0 Status: OK PackageFile: SynExtend_1.23.0.tar.gz PackageFileSize: 3.13 MiB