Package: SynExtend Version: 1.23.0 Command: /Library/Frameworks/R.framework/Resources/bin/R CMD build --keep-empty-dirs --no-resave-data SynExtend StartedAt: 2025-11-12 17:20:48 -0500 (Wed, 12 Nov 2025) EndedAt: 2025-11-12 17:21:23 -0500 (Wed, 12 Nov 2025) EllapsedTime: 34.4 seconds RetCode: 0 Status: OK PackageFile: SynExtend_1.23.0.tar.gz PackageFileSize: 3.131 MiB