Package: SynExtend Version: 1.23.0 Command: rm -rf SynExtend.buildbin-libdir && mkdir SynExtend.buildbin-libdir && /Users/biocbuild/BBS/utils/build-universal.sh SynExtend_1.23.0.tar.gz /Library/Frameworks/R.framework/Resources/bin/R SynExtend.buildbin-libdir StartedAt: 2025-11-12 21:12:18 -0500 (Wed, 12 Nov 2025) EndedAt: 2025-11-12 21:12:32 -0500 (Wed, 12 Nov 2025) EllapsedTime: 13.5 seconds RetCode: 0 Status: OK PackageFile: SynExtend_1.23.0.tgz PackageFileSize: 3.969 MiB