Package: SynExtend Version: 1.23.0 Maintainer: Nicholas Cooley MaintainerEmail: npc19 at pitt.edu git_url: https://git.bioconductor.org/packages/SynExtend git_branch: devel git_last_commit: 99b8c41 git_last_commit_date: 2025-10-29 10:59:12 -0500 (Wed, 29 Oct 2025)