Package: SurfR Version: 1.7.0 Command: /Library/Frameworks/R.framework/Resources/bin/R CMD INSTALL SurfR StartedAt: 2025-11-14 15:23:33 -0500 (Fri, 14 Nov 2025) EndedAt: 2025-11-14 15:23:49 -0500 (Fri, 14 Nov 2025) EllapsedTime: 16.4 seconds RetCode: 0 Status: OK