Package: SurfR Version: 1.7.0 Command: /Library/Frameworks/R.framework/Resources/bin/R CMD build --keep-empty-dirs --no-resave-data SurfR StartedAt: 2025-11-14 17:51:19 -0500 (Fri, 14 Nov 2025) EndedAt: 2025-11-14 17:51:39 -0500 (Fri, 14 Nov 2025) EllapsedTime: 20.2 seconds RetCode: 0 Status: OK PackageFile: SurfR_1.7.0.tar.gz PackageFileSize: 372.8 KiB