Package: SurfR Version: 1.7.0 Command: rm -rf SurfR.buildbin-libdir && mkdir SurfR.buildbin-libdir && /Users/biocbuild/BBS/utils/build-universal.sh SurfR_1.7.0.tar.gz /Library/Frameworks/R.framework/Resources/bin/R SurfR.buildbin-libdir StartedAt: 2025-11-14 23:54:15 -0500 (Fri, 14 Nov 2025) EndedAt: 2025-11-14 23:54:36 -0500 (Fri, 14 Nov 2025) EllapsedTime: 20.5 seconds RetCode: 0 Status: OK PackageFile: SurfR_1.7.0.tgz PackageFileSize: 445.6 KiB