Package: SuperCellCyto Version: 1.1.0 Command: /home/biocbuild/bbs-3.23-bioc/R/bin/R CMD INSTALL SuperCellCyto StartedAt: 2025-11-17 15:12:03 -0500 (Mon, 17 Nov 2025) EndedAt: 2025-11-17 15:12:12 -0500 (Mon, 17 Nov 2025) EllapsedTime: 9.2 seconds RetCode: 0 Status: OK