Package: SuperCellCyto Version: 1.1.0 Command: /Library/Frameworks/R.framework/Resources/bin/R CMD build --keep-empty-dirs --no-resave-data SuperCellCyto StartedAt: 2025-11-13 17:53:59 -0500 (Thu, 13 Nov 2025) EndedAt: 2025-11-13 17:54:14 -0500 (Thu, 13 Nov 2025) EllapsedTime: 15.2 seconds RetCode: 1 Status: ERROR PackageFile: None PackageFileSize: NA