Package: SuperCellCyto Version: 1.1.0 Maintainer: Givanna Putri MaintainerEmail: givanna.h at gmail.com git_url: https://git.bioconductor.org/packages/SuperCellCyto git_branch: devel git_last_commit: 0098ab2 git_last_commit_date: 2025-10-29 11:38:04 -0500 (Wed, 29 Oct 2025)