Package: Summix Version: 2.17.0 Command: rm -rf Summix.buildbin-libdir && mkdir Summix.buildbin-libdir && /Users/biocbuild/BBS/utils/build-universal.sh Summix_2.17.0.tar.gz /Library/Frameworks/R.framework/Resources/bin/R Summix.buildbin-libdir StartedAt: 2025-11-16 23:55:17 -0500 (Sun, 16 Nov 2025) EndedAt: 2025-11-16 23:55:23 -0500 (Sun, 16 Nov 2025) EllapsedTime: 6.1 seconds RetCode: 0 Status: OK PackageFile: Summix_2.17.0.tgz PackageFileSize: 355.3 KiB