Package: SummarizedExperiment Version: 1.41.0 Command: /Library/Frameworks/R.framework/Resources/bin/R CMD INSTALL SummarizedExperiment StartedAt: 2025-11-13 15:10:54 -0500 (Thu, 13 Nov 2025) EndedAt: 2025-11-13 15:11:05 -0500 (Thu, 13 Nov 2025) EllapsedTime: 11.6 seconds RetCode: 0 Status: OK