Package: SummarizedExperiment Version: 1.41.0 Maintainer: Hervé Pagès MaintainerEmail: hpages.on.github at gmail.com git_url: https://git.bioconductor.org/packages/SummarizedExperiment git_branch: devel git_last_commit: 7a9787c git_last_commit_date: 2025-10-29 14:49:30 -0500 (Wed, 29 Oct 2025)