Package: SubCellBarCode Version: 1.27.0 Command: /home/biocbuild/bbs-3.23-bioc/R/bin/R CMD INSTALL SubCellBarCode StartedAt: 2025-11-14 15:26:51 -0500 (Fri, 14 Nov 2025) EndedAt: 2025-11-14 15:27:14 -0500 (Fri, 14 Nov 2025) EllapsedTime: 23.1 seconds RetCode: 0 Status: OK