Package: SubCellBarCode Version: 1.27.0 Command: /home/biocbuild/bbs-3.23-bioc/R/bin/R CMD check --install=check:SubCellBarCode.install-out.txt --library=/home/biocbuild/bbs-3.23-bioc/R/site-library --timings SubCellBarCode_1.27.0.tar.gz StartedAt: 2025-11-15 04:40:19 -0500 (Sat, 15 Nov 2025) EndedAt: 2025-11-15 04:48:31 -0500 (Sat, 15 Nov 2025) EllapsedTime: 492.5 seconds RetCode: 0 Status: WARNINGS CheckDir: SubCellBarCode.Rcheck Warnings: 1