Package: SubCellBarCode Version: 1.27.0 Command: /home/biocbuild/bbs-3.23-bioc/R/bin/R CMD build --keep-empty-dirs --no-resave-data SubCellBarCode StartedAt: 2025-11-14 20:23:09 -0500 (Fri, 14 Nov 2025) EndedAt: 2025-11-14 20:27:49 -0500 (Fri, 14 Nov 2025) EllapsedTime: 279.3 seconds RetCode: 0 Status: OK PackageFile: SubCellBarCode_1.27.0.tar.gz PackageFileSize: 2.306 MiB