Package: SubCellBarCode Version: 1.27.0 Command: /Library/Frameworks/R.framework/Resources/bin/R CMD check --install=check:SubCellBarCode.install-out.txt --library=/Library/Frameworks/R.framework/Resources/library --no-vignettes --timings SubCellBarCode_1.27.0.tar.gz StartedAt: 2025-11-14 22:50:07 -0500 (Fri, 14 Nov 2025) EndedAt: 2025-11-14 22:51:49 -0500 (Fri, 14 Nov 2025) EllapsedTime: 102.2 seconds RetCode: 0 Status: WARNINGS CheckDir: SubCellBarCode.Rcheck Warnings: 1