Package: SubCellBarCode Version: 1.27.0 Command: /Library/Frameworks/R.framework/Resources/bin/R CMD build --keep-empty-dirs --no-resave-data SubCellBarCode StartedAt: 2025-11-14 17:50:51 -0500 (Fri, 14 Nov 2025) EndedAt: 2025-11-14 17:52:39 -0500 (Fri, 14 Nov 2025) EllapsedTime: 108.2 seconds RetCode: 0 Status: OK PackageFile: SubCellBarCode_1.27.0.tar.gz PackageFileSize: 2.347 MiB