Package: SubCellBarCode Version: 1.27.0 Command: rm -rf SubCellBarCode.buildbin-libdir && mkdir SubCellBarCode.buildbin-libdir && /Users/biocbuild/BBS/utils/build-universal.sh SubCellBarCode_1.27.0.tar.gz /Library/Frameworks/R.framework/Resources/bin/R SubCellBarCode.buildbin-libdir StartedAt: 2025-11-14 23:54:08 -0500 (Fri, 14 Nov 2025) EndedAt: 2025-11-14 23:54:20 -0500 (Fri, 14 Nov 2025) EllapsedTime: 12.3 seconds RetCode: 0 Status: OK PackageFile: SubCellBarCode_1.27.0.tgz PackageFileSize: 2.749 MiB