Package: StructuralVariantAnnotation Version: 1.27.0 Command: /home/biocbuild/bbs-3.23-bioc/R/bin/R CMD check --install=check:StructuralVariantAnnotation.install-out.txt --library=/home/biocbuild/bbs-3.23-bioc/R/site-library --timings StructuralVariantAnnotation_1.27.0.tar.gz StartedAt: 2025-11-15 04:40:12 -0500 (Sat, 15 Nov 2025) EndedAt: 2025-11-15 04:48:31 -0500 (Sat, 15 Nov 2025) EllapsedTime: 499.5 seconds RetCode: 0 Status: OK CheckDir: StructuralVariantAnnotation.Rcheck Warnings: 0