Package: StructuralVariantAnnotation Version: 1.27.0 Command: /Library/Frameworks/R.framework/Resources/bin/R CMD INSTALL StructuralVariantAnnotation StartedAt: 2025-11-14 15:26:07 -0500 (Fri, 14 Nov 2025) EndedAt: 2025-11-14 15:26:23 -0500 (Fri, 14 Nov 2025) EllapsedTime: 16.5 seconds RetCode: 0 Status: OK