Package: StructuralVariantAnnotation Version: 1.27.0 Command: /Library/Frameworks/R.framework/Resources/bin/R CMD check --install=check:StructuralVariantAnnotation.install-out.txt --library=/Library/Frameworks/R.framework/Resources/library --no-vignettes --timings StructuralVariantAnnotation_1.27.0.tar.gz StartedAt: 2025-11-14 22:49:38 -0500 (Fri, 14 Nov 2025) EndedAt: 2025-11-14 22:52:49 -0500 (Fri, 14 Nov 2025) EllapsedTime: 191.3 seconds RetCode: 0 Status: OK CheckDir: StructuralVariantAnnotation.Rcheck Warnings: 0