Package: StructuralVariantAnnotation Version: 1.27.0 Command: /Library/Frameworks/R.framework/Resources/bin/R CMD build --keep-empty-dirs --no-resave-data StructuralVariantAnnotation StartedAt: 2025-11-14 17:50:48 -0500 (Fri, 14 Nov 2025) EndedAt: 2025-11-14 17:51:22 -0500 (Fri, 14 Nov 2025) EllapsedTime: 34.4 seconds RetCode: 0 Status: OK PackageFile: StructuralVariantAnnotation_1.27.0.tar.gz PackageFileSize: 964.6 KiB