Package: StructuralVariantAnnotation Version: 1.27.0 Command: rm -rf StructuralVariantAnnotation.buildbin-libdir && mkdir StructuralVariantAnnotation.buildbin-libdir && /Users/biocbuild/BBS/utils/build-universal.sh StructuralVariantAnnotation_1.27.0.tar.gz /Library/Frameworks/R.framework/Resources/bin/R StructuralVariantAnnotation.buildbin-libdir StartedAt: 2025-11-14 23:54:07 -0500 (Fri, 14 Nov 2025) EndedAt: 2025-11-14 23:54:28 -0500 (Fri, 14 Nov 2025) EllapsedTime: 20.5 seconds RetCode: 0 Status: OK PackageFile: StructuralVariantAnnotation_1.27.0.tgz PackageFileSize: 1.072 MiB