Package: Structstrings Version: 1.27.0 Command: /home/biocbuild/bbs-3.23-bioc/R/bin/R CMD INSTALL Structstrings StartedAt: 2025-11-11 15:20:47 -0500 (Tue, 11 Nov 2025) EndedAt: 2025-11-11 15:21:03 -0500 (Tue, 11 Nov 2025) EllapsedTime: 16.6 seconds RetCode: 0 Status: OK