Package: Structstrings Version: 1.27.0 Command: /home/biocbuild/bbs-3.23-bioc/R/bin/R CMD build --keep-empty-dirs --no-resave-data Structstrings StartedAt: 2025-11-11 20:27:49 -0500 (Tue, 11 Nov 2025) EndedAt: 2025-11-11 20:28:16 -0500 (Tue, 11 Nov 2025) EllapsedTime: 27.0 seconds RetCode: 0 Status: OK PackageFile: Structstrings_1.27.0.tar.gz PackageFileSize: 373.5 KiB