Package: Structstrings Version: 1.27.0 Command: /Library/Frameworks/R.framework/Resources/bin/R CMD check --install=check:Structstrings.install-out.txt --library=/Library/Frameworks/R.framework/Resources/library --no-vignettes --timings Structstrings_1.27.0.tar.gz StartedAt: 2025-11-12 20:31:58 -0500 (Wed, 12 Nov 2025) EndedAt: 2025-11-12 20:32:02 -0500 (Wed, 12 Nov 2025) EllapsedTime: 4.1 seconds RetCode: 1 Status: ERROR CheckDir: Structstrings.Rcheck Warnings: NA