Package: Structstrings Version: 1.27.0 Command: /Library/Frameworks/R.framework/Resources/bin/R CMD build --keep-empty-dirs --no-resave-data Structstrings StartedAt: 2025-11-13 17:53:38 -0500 (Thu, 13 Nov 2025) EndedAt: 2025-11-13 17:53:50 -0500 (Thu, 13 Nov 2025) EllapsedTime: 12.1 seconds RetCode: 0 Status: OK PackageFile: Structstrings_1.27.0.tar.gz PackageFileSize: 373.4 KiB