Package: Structstrings Version: 1.27.0 Command: rm -rf Structstrings.buildbin-libdir && mkdir Structstrings.buildbin-libdir && /Users/biocbuild/BBS/utils/build-universal.sh Structstrings_1.27.0.tar.gz /Library/Frameworks/R.framework/Resources/bin/R Structstrings.buildbin-libdir StartedAt: 2025-11-13 23:58:48 -0500 (Thu, 13 Nov 2025) EndedAt: 2025-11-13 23:58:59 -0500 (Thu, 13 Nov 2025) EllapsedTime: 10.2 seconds RetCode: 0 Status: OK PackageFile: Structstrings_1.27.0.tgz PackageFileSize: 810.5 KiB