Package: Statial Version: 1.13.0 Command: /home/biocbuild/bbs-3.23-bioc/R/bin/R CMD build --keep-empty-dirs --no-resave-data Statial StartedAt: 2025-11-11 20:26:51 -0500 (Tue, 11 Nov 2025) EndedAt: 2025-11-11 20:35:59 -0500 (Tue, 11 Nov 2025) EllapsedTime: 548.9 seconds RetCode: 0 Status: OK PackageFile: Statial_1.13.0.tar.gz PackageFileSize: 9.245 MiB