Package: Statial Version: 1.13.0 Command: /Library/Frameworks/R.framework/Resources/bin/R CMD build --keep-empty-dirs --no-resave-data Statial StartedAt: 2025-11-13 17:53:01 -0500 (Thu, 13 Nov 2025) EndedAt: 2025-11-13 17:57:52 -0500 (Thu, 13 Nov 2025) EllapsedTime: 290.3 seconds RetCode: 0 Status: OK PackageFile: Statial_1.13.0.tar.gz PackageFileSize: 9.653 MiB