Package: Statial Version: 1.13.0 Maintainer: Farhan Ameen MaintainerEmail: fame2827 at uni.sydney.edu.au git_url: https://git.bioconductor.org/packages/Statial git_branch: devel git_last_commit: 2a5a1ee git_last_commit_date: 2025-10-29 11:19:57 -0500 (Wed, 29 Oct 2025)