Package: StabMap Version: 1.5.0 Command: /Library/Frameworks/R.framework/Resources/bin/R CMD INSTALL StabMap StartedAt: 2025-11-12 15:43:54 -0500 (Wed, 12 Nov 2025) EndedAt: 2025-11-12 15:44:03 -0500 (Wed, 12 Nov 2025) EllapsedTime: 8.7 seconds RetCode: 0 Status: OK