Package: StabMap Version: 1.5.0 Command: /Library/Frameworks/R.framework/Resources/bin/R CMD build --keep-empty-dirs --no-resave-data StabMap StartedAt: 2025-11-12 17:19:23 -0500 (Wed, 12 Nov 2025) EndedAt: 2025-11-12 17:19:37 -0500 (Wed, 12 Nov 2025) EllapsedTime: 14.2 seconds RetCode: 1 Status: ERROR PackageFile: None PackageFileSize: NA