Package: SpotSweeper Version: 1.7.0 Command: /Library/Frameworks/R.framework/Resources/bin/R CMD INSTALL SpotSweeper StartedAt: 2025-11-13 15:15:02 -0500 (Thu, 13 Nov 2025) EndedAt: 2025-11-13 15:15:18 -0500 (Thu, 13 Nov 2025) EllapsedTime: 15.7 seconds RetCode: 0 Status: OK