Package: SpotSweeper Version: 1.7.0 Command: /Library/Frameworks/R.framework/Resources/bin/R CMD build --keep-empty-dirs --no-resave-data SpotSweeper StartedAt: 2025-11-13 17:51:43 -0500 (Thu, 13 Nov 2025) EndedAt: 2025-11-13 17:52:43 -0500 (Thu, 13 Nov 2025) EllapsedTime: 59.6 seconds RetCode: 0 Status: OK PackageFile: SpotSweeper_1.7.0.tar.gz PackageFileSize: 4.007 MiB