Package: SpotSweeper Version: 1.7.0 Command: rm -rf SpotSweeper.buildbin-libdir && mkdir SpotSweeper.buildbin-libdir && /Users/biocbuild/BBS/utils/build-universal.sh SpotSweeper_1.7.0.tar.gz /Library/Frameworks/R.framework/Resources/bin/R SpotSweeper.buildbin-libdir StartedAt: 2025-11-13 23:58:24 -0500 (Thu, 13 Nov 2025) EndedAt: 2025-11-13 23:58:43 -0500 (Thu, 13 Nov 2025) EllapsedTime: 19.4 seconds RetCode: 0 Status: OK PackageFile: SpotSweeper_1.7.0.tgz PackageFileSize: 4.037 MiB