Package: SpotClean Version: 1.13.0 Command: /Library/Frameworks/R.framework/Resources/bin/R CMD INSTALL SpotClean StartedAt: 2025-11-20 15:12:43 -0500 (Thu, 20 Nov 2025) EndedAt: 2025-11-20 15:12:59 -0500 (Thu, 20 Nov 2025) EllapsedTime: 15.9 seconds RetCode: 0 Status: OK