Package: SpotClean Version: 1.13.0 Command: rm -rf SpotClean.buildbin-libdir && mkdir SpotClean.buildbin-libdir && /Users/biocbuild/BBS/utils/build-universal.sh SpotClean_1.13.0.tar.gz /Library/Frameworks/R.framework/Resources/bin/R SpotClean.buildbin-libdir StartedAt: 2025-11-20 23:54:11 -0500 (Thu, 20 Nov 2025) EndedAt: 2025-11-20 23:54:31 -0500 (Thu, 20 Nov 2025) EllapsedTime: 19.5 seconds RetCode: 0 Status: OK PackageFile: SpotClean_1.13.0.tgz PackageFileSize: 4.451 MiB