Package: SpotClean Version: 1.13.0 Maintainer: Zijian Ni MaintainerEmail: zni25 at wisc.edu git_url: https://git.bioconductor.org/packages/SpotClean git_branch: devel git_last_commit: d03a2a9 git_last_commit_date: 2025-10-29 11:17:07 -0500 (Wed, 29 Oct 2025)