Package: SplicingGraphs Version: 1.51.1 Command: /home/biocbuild/bbs-3.23-bioc/R/bin/R CMD build --keep-empty-dirs --no-resave-data SplicingGraphs StartedAt: 2025-11-11 20:22:18 -0500 (Tue, 11 Nov 2025) EndedAt: 2025-11-11 20:26:20 -0500 (Tue, 11 Nov 2025) EllapsedTime: 241.2 seconds RetCode: 0 Status: OK PackageFile: SplicingGraphs_1.51.1.tar.gz PackageFileSize: 4.474 MiB