Package: SplicingGraphs Version: 1.51.1 Command: /Library/Frameworks/R.framework/Resources/bin/R CMD check --install=check:SplicingGraphs.install-out.txt --library=/Library/Frameworks/R.framework/Resources/library --no-vignettes --timings SplicingGraphs_1.51.1.tar.gz StartedAt: 2025-11-12 20:29:10 -0500 (Wed, 12 Nov 2025) EndedAt: 2025-11-12 20:32:12 -0500 (Wed, 12 Nov 2025) EllapsedTime: 182.2 seconds RetCode: 0 Status: WARNINGS CheckDir: SplicingGraphs.Rcheck Warnings: 2