Package: SplicingFactory Version: 1.19.0 Command: /home/biocbuild/bbs-3.23-bioc/R/bin/R CMD INSTALL SplicingFactory StartedAt: 2025-11-13 15:22:21 -0500 (Thu, 13 Nov 2025) EndedAt: 2025-11-13 15:22:40 -0500 (Thu, 13 Nov 2025) EllapsedTime: 19.6 seconds RetCode: 0 Status: OK