Package: SplicingFactory Version: 1.19.0 Command: /home/biocbuild/bbs-3.23-bioc/R/bin/R CMD build --keep-empty-dirs --no-resave-data SplicingFactory StartedAt: 2025-11-13 20:17:02 -0500 (Thu, 13 Nov 2025) EndedAt: 2025-11-13 20:17:35 -0500 (Thu, 13 Nov 2025) EllapsedTime: 33.0 seconds RetCode: 0 Status: OK PackageFile: SplicingFactory_1.19.0.tar.gz PackageFileSize: 755 KiB