Package: SplicingFactory Version: 1.19.0 Command: /Library/Frameworks/R.framework/Resources/bin/R CMD check --install=check:SplicingFactory.install-out.txt --library=/Library/Frameworks/R.framework/Resources/library --no-vignettes --timings SplicingFactory_1.19.0.tar.gz StartedAt: 2025-11-14 22:44:05 -0500 (Fri, 14 Nov 2025) EndedAt: 2025-11-14 22:45:12 -0500 (Fri, 14 Nov 2025) EllapsedTime: 67.8 seconds RetCode: 0 Status: OK CheckDir: SplicingFactory.Rcheck Warnings: 0