Package: SplicingFactory Version: 1.19.0 Command: /Library/Frameworks/R.framework/Resources/bin/R CMD build --keep-empty-dirs --no-resave-data SplicingFactory StartedAt: 2025-11-13 17:50:39 -0500 (Thu, 13 Nov 2025) EndedAt: 2025-11-13 17:50:55 -0500 (Thu, 13 Nov 2025) EllapsedTime: 16.2 seconds RetCode: 0 Status: OK PackageFile: SplicingFactory_1.19.0.tar.gz PackageFileSize: 791.1 KiB