Package: SpliceWiz Version: 1.13.0 Command: /home/biocbuild/bbs-3.23-bioc/R/bin/R CMD build --keep-empty-dirs --no-resave-data SpliceWiz StartedAt: 2025-11-11 20:21:58 -0500 (Tue, 11 Nov 2025) EndedAt: 2025-11-11 20:27:52 -0500 (Tue, 11 Nov 2025) EllapsedTime: 353.3 seconds RetCode: 0 Status: OK PackageFile: SpliceWiz_1.13.0.tar.gz PackageFileSize: 4.705 MiB