Package: SpliceWiz Version: 1.13.0 Command: /Library/Frameworks/R.framework/Resources/bin/R CMD INSTALL SpliceWiz StartedAt: 2025-11-13 15:17:06 -0500 (Thu, 13 Nov 2025) EndedAt: 2025-11-13 15:17:42 -0500 (Thu, 13 Nov 2025) EllapsedTime: 36.1 seconds RetCode: 0 Status: OK